BEGIN:VCALENDAR
VERSION:2.0
PRODID:-//SDN - Software Development Network - ECPv6.15.20//NONSGML v1.0//EN
CALSCALE:GREGORIAN
METHOD:PUBLISH
X-ORIGINAL-URL:https://sdn.nl
X-WR-CALDESC:Events for SDN - Software Development Network
REFRESH-INTERVAL;VALUE=DURATION:PT1H
X-Robots-Tag:noindex
X-PUBLISHED-TTL:PT1H
BEGIN:VTIMEZONE
TZID:Europe/Amsterdam
BEGIN:DAYLIGHT
TZOFFSETFROM:+0100
TZOFFSETTO:+0200
TZNAME:CEST
DTSTART:20220327T010000
END:DAYLIGHT
BEGIN:STANDARD
TZOFFSETFROM:+0200
TZOFFSETTO:+0100
TZNAME:CET
DTSTART:20221030T010000
END:STANDARD
BEGIN:DAYLIGHT
TZOFFSETFROM:+0100
TZOFFSETTO:+0200
TZNAME:CEST
DTSTART:20230326T010000
END:DAYLIGHT
BEGIN:STANDARD
TZOFFSETFROM:+0200
TZOFFSETTO:+0100
TZNAME:CET
DTSTART:20231029T010000
END:STANDARD
BEGIN:DAYLIGHT
TZOFFSETFROM:+0100
TZOFFSETTO:+0200
TZNAME:CEST
DTSTART:20240331T010000
END:DAYLIGHT
BEGIN:STANDARD
TZOFFSETFROM:+0200
TZOFFSETTO:+0100
TZNAME:CET
DTSTART:20241027T010000
END:STANDARD
END:VTIMEZONE
BEGIN:VEVENT
DTSTART;TZID=Europe/Amsterdam:20230217T080000
DTEND;TZID=Europe/Amsterdam:20230217T170000
DTSTAMP:20260422T031713
CREATED:20230217T131427Z
LAST-MODIFIED:20230217T131427Z
UID:7658-1676620800-1676653200@sdn.nl
SUMMARY:Future Tech 2023. 15 Maart as Jaarbeurs Utrecht!
DESCRIPTION:Beste SDN’ers\, zijn jullie er klaar voor ? \nWoensdag 15 Maart as is het zover. De 4e editie van Future Tech NL.  The Microsoft Technologies & .NET conference of the Netherlands. \nHet programma is gevuld met de beste sprekers van over de hele wereld met hottopics als cloud\, develops\, security en emerging technologies.  Ben je lid van de SDN dan kun je gratis naar de Future Tech. Gebruik bij de ticketregistratie je SDN lidnummer. Weet je je lidnummer niet meer ? Stuur dan even een berichtje naar  info@sdn.nl en dan zorgen wij ervoor dat je de toegangsticket alsnog krijgt gemaild. \nBen je geen lid van de SDN dan loont het om toch lid te worden voor slechts 69\,95 per jaar. Een regulier ticket voor de FutureTech kost namelijk 219\,- euro (incl btw). Naast gratis toegang tot de FutureTech conferentie ontvang je ook 4 x per jaar het SDN .NET magazine. Goeie deal dus ! \nWil je geen lid worden van de SDN\, maar wel naar de Future Tech conference koop dan je ticket via www.futuretech.nl 
URL:https://sdn.nl/evenement/future-tech-2023-15-maart-as-jaarbeurs-utrecht/
ATTACH;FMTTYPE=image/jpeg:https://sdn.nl/wp-content/uploads/2023/02/0223_FT_nieuwsbriefheader-Get-your-ticket-now-3.jpg
END:VEVENT
END:VCALENDAR