BEGIN:VCALENDAR
VERSION:2.0
PRODID:-//SDN - Software Development Network - ECPv6.15.20//NONSGML v1.0//EN
CALSCALE:GREGORIAN
METHOD:PUBLISH
X-WR-CALNAME:SDN - Software Development Network
X-ORIGINAL-URL:https://sdn.nl
X-WR-CALDESC:Events for SDN - Software Development Network
REFRESH-INTERVAL;VALUE=DURATION:PT1H
X-Robots-Tag:noindex
X-PUBLISHED-TTL:PT1H
BEGIN:VTIMEZONE
TZID:Europe/Amsterdam
BEGIN:DAYLIGHT
TZOFFSETFROM:+0100
TZOFFSETTO:+0200
TZNAME:CEST
DTSTART:20200329T010000
END:DAYLIGHT
BEGIN:STANDARD
TZOFFSETFROM:+0200
TZOFFSETTO:+0100
TZNAME:CET
DTSTART:20201025T010000
END:STANDARD
BEGIN:DAYLIGHT
TZOFFSETFROM:+0100
TZOFFSETTO:+0200
TZNAME:CEST
DTSTART:20210328T010000
END:DAYLIGHT
BEGIN:STANDARD
TZOFFSETFROM:+0200
TZOFFSETTO:+0100
TZNAME:CET
DTSTART:20211031T010000
END:STANDARD
BEGIN:DAYLIGHT
TZOFFSETFROM:+0100
TZOFFSETTO:+0200
TZNAME:CEST
DTSTART:20220327T010000
END:DAYLIGHT
BEGIN:STANDARD
TZOFFSETFROM:+0200
TZOFFSETTO:+0100
TZNAME:CET
DTSTART:20221030T010000
END:STANDARD
BEGIN:DAYLIGHT
TZOFFSETFROM:+0100
TZOFFSETTO:+0200
TZNAME:CEST
DTSTART:20230326T010000
END:DAYLIGHT
BEGIN:STANDARD
TZOFFSETFROM:+0200
TZOFFSETTO:+0100
TZNAME:CET
DTSTART:20231029T010000
END:STANDARD
BEGIN:DAYLIGHT
TZOFFSETFROM:+0100
TZOFFSETTO:+0200
TZNAME:CEST
DTSTART:20240331T010000
END:DAYLIGHT
BEGIN:STANDARD
TZOFFSETFROM:+0200
TZOFFSETTO:+0100
TZNAME:CET
DTSTART:20241027T010000
END:STANDARD
END:VTIMEZONE
BEGIN:VEVENT
DTSTART;TZID=Europe/Amsterdam:20230607T173000
DTEND;TZID=Europe/Amsterdam:20230607T210000
DTSTAMP:20260421T224501
CREATED:20230515T112752Z
LAST-MODIFIED:20230515T112752Z
UID:7776-1686159000-1686171600@sdn.nl
SUMMARY:Tech Summit 2023
DESCRIPTION:Technology is a vital enabler of sustainability – from accelerating net zero transitions to creating more sustainable value chains. And\, we believe there is so much more to discover! \nDuring the Tech Summit we’ll explore the most essential technologies in today’s quickly changing world and share our insights on how to tackle sustainability challenges with tech. We will walk you through practical examples of how innovative solutions are applied to create a sustainable future. Furthermore\, there will be hands-on workshops to experience various technologies yourself. \n  \nCurious to find out how you can make a positive impact through tech? Join our Tech Summit: Sustain the Future! \nhttps://careersatcapgemini.nl/events/tech-summit-2023 \nPS: As far as we are concerned\, a summit is not a summit without a fun-square filled with food-trucks\, drinks\, and games… will you join the fun?
URL:https://sdn.nl/evenement/tech-summit-2023/
CATEGORIES:Partner events
ATTACH;FMTTYPE=image/jpeg:https://sdn.nl/wp-content/uploads/2023/05/1R-017.23c-Tech-Summit-LinkedIn_1200x630.jpg
END:VEVENT
BEGIN:VEVENT
DTSTART;TZID=Europe/Amsterdam:20230217T080000
DTEND;TZID=Europe/Amsterdam:20230217T170000
DTSTAMP:20260421T224501
CREATED:20230217T131427Z
LAST-MODIFIED:20230217T131427Z
UID:7658-1676620800-1676653200@sdn.nl
SUMMARY:Future Tech 2023. 15 Maart as Jaarbeurs Utrecht!
DESCRIPTION:Beste SDN’ers\, zijn jullie er klaar voor ? \nWoensdag 15 Maart as is het zover. De 4e editie van Future Tech NL.  The Microsoft Technologies & .NET conference of the Netherlands. \nHet programma is gevuld met de beste sprekers van over de hele wereld met hottopics als cloud\, develops\, security en emerging technologies.  Ben je lid van de SDN dan kun je gratis naar de Future Tech. Gebruik bij de ticketregistratie je SDN lidnummer. Weet je je lidnummer niet meer ? Stuur dan even een berichtje naar  info@sdn.nl en dan zorgen wij ervoor dat je de toegangsticket alsnog krijgt gemaild. \nBen je geen lid van de SDN dan loont het om toch lid te worden voor slechts 69\,95 per jaar. Een regulier ticket voor de FutureTech kost namelijk 219\,- euro (incl btw). Naast gratis toegang tot de FutureTech conferentie ontvang je ook 4 x per jaar het SDN .NET magazine. Goeie deal dus ! \nWil je geen lid worden van de SDN\, maar wel naar de Future Tech conference koop dan je ticket via www.futuretech.nl 
URL:https://sdn.nl/evenement/future-tech-2023-15-maart-as-jaarbeurs-utrecht/
ATTACH;FMTTYPE=image/jpeg:https://sdn.nl/wp-content/uploads/2023/02/0223_FT_nieuwsbriefheader-Get-your-ticket-now-3.jpg
END:VEVENT
BEGIN:VEVENT
DTSTART;TZID=Europe/Amsterdam:20211018T080000
DTEND;TZID=Europe/Amsterdam:20211018T170000
DTSTAMP:20260421T224501
CREATED:20211018T125824Z
LAST-MODIFIED:20211018T130000Z
UID:6985-1634544000-1634576400@sdn.nl
SUMMARY:SDN Nights presents: .NET 6 Conf. launch
DESCRIPTION:
URL:https://sdn.nl/evenement/sdn-nights-presents-net-6-conf-launch/
END:VEVENT
BEGIN:VEVENT
DTSTART;TZID=Europe/Amsterdam:20210510T160000
DTEND;TZID=Europe/Amsterdam:20210512T190000
DTSTAMP:20260421T224501
CREATED:20200402T111240Z
LAST-MODIFIED:20210421T131004Z
UID:5666-1620662400-1620846000@sdn.nl
SUMMARY:TEQnation Conference 2021
DESCRIPTION:For developers by developers \nSupported by SDN \nTEQnation is the software development conference designed for teamleads\, architects and project management. But most of all it’s organized for developers by developers. The Developer Conference of Tomorrow: TEQnation 2020 brings more than 50 speakers\, various exhibitors\, live demonstrations and numerous networking opportunities. \nThere are major technological trends disrupting the IT business and that’s what we’re focussing on at TEQnation. You can expect the following topics: \n– Computers taking control with Artificial Intelligence & Machine Learning; \n– The world getting more and more connected with IoT & Embedded; \n– Visualize and augment your world with AR & VR; \n– The ever-changing IT Methodology & Culture; \n– Modifying source codes yourself with Open Source; \n– The shift from physical servers to Cloud & Serverless; \n– And anything else that’s New and Cool. \nShow your passion with like-minded people\, improve your skills and have fun in an easy-going atmosphere at TEQnation 2020. \nJoin the buzz that is TEQnation and get ready to Code\, Innovate & Create with fellow developers. \nMore information & Tickets
URL:https://sdn.nl/evenement/teqnation-conference-2020/
LOCATION:Online\, Online\, Online
CATEGORIES:Partner events
ATTACH;FMTTYPE=image/png:https://sdn.nl/wp-content/uploads/2019/02/Teqnation-Event_cmyk.png
ORGANIZER;CN="TEQnation":MAILTO:info@teqnation.nl
END:VEVENT
END:VCALENDAR